BEGIN:VCALENDAR
VERSION:2.0
PRODID:-//IPDS - ECPv6.15.16//NONSGML v1.0//EN
CALSCALE:GREGORIAN
METHOD:PUBLISH
X-ORIGINAL-URL:https://ipds.com
X-WR-CALDESC:Events for IPDS
REFRESH-INTERVAL;VALUE=DURATION:PT1H
X-Robots-Tag:noindex
X-PUBLISHED-TTL:PT1H
BEGIN:VTIMEZONE
TZID:America/New_York
BEGIN:DAYLIGHT
TZOFFSETFROM:-0500
TZOFFSETTO:-0400
TZNAME:EDT
DTSTART:20240310T070000
END:DAYLIGHT
BEGIN:STANDARD
TZOFFSETFROM:-0400
TZOFFSETTO:-0500
TZNAME:EST
DTSTART:20241103T060000
END:STANDARD
BEGIN:DAYLIGHT
TZOFFSETFROM:-0500
TZOFFSETTO:-0400
TZNAME:EDT
DTSTART:20250309T070000
END:DAYLIGHT
BEGIN:STANDARD
TZOFFSETFROM:-0400
TZOFFSETTO:-0500
TZNAME:EST
DTSTART:20251102T060000
END:STANDARD
BEGIN:DAYLIGHT
TZOFFSETFROM:-0500
TZOFFSETTO:-0400
TZNAME:EDT
DTSTART:20260308T070000
END:DAYLIGHT
BEGIN:STANDARD
TZOFFSETFROM:-0400
TZOFFSETTO:-0500
TZNAME:EST
DTSTART:20261101T060000
END:STANDARD
END:VTIMEZONE
BEGIN:VEVENT
DTSTART;TZID=America/New_York:20250923T080000
DTEND;TZID=America/New_York:20250923T143000
DTSTAMP:20260419T103112
CREATED:20250730T164910Z
LAST-MODIFIED:20250821T025141Z
UID:10000001-1758614400-1758637800@ipds.com
SUMMARY:Golf with IPDS\, Dell Technologies and Intel
DESCRIPTION:
URL:https://ipds.com/event/golf-ipds-dell-intel/
LOCATION:PB Dye\, 9526 Doctor Perry Road\, Ijamsville\, MD\, 21754\, United States
ATTACH;FMTTYPE=image/png:https://ipds.com/wp-content/uploads/2025/04/ipds-dell-intel-fall-golf-featured-image-wordpress.png
END:VEVENT
END:VCALENDAR